BEGIN:VCALENDAR
VERSION:2.0
PRODID:-//PYVOBJECT//NONSGML Version 1//EN
BEGIN:VEVENT
UID:25354:7470
DTSTART:20210401T000000
DTEND:20220701T000000
DESCRIPTION:\n	\n	Wir haben bis auf weiteres das Covid Testen eingestellt.\
 n
DTSTAMP:20260420T141656Z
SUMMARY:Covid Antigen Tests
END:VEVENT
END:VCALENDAR
